BEGIN:VCALENDAR
VERSION:2.0
PRODID:-//jEvents 2.0 for Joomla//EN
CALSCALE:GREGORIAN
METHOD:PUBLISH
BEGIN:VEVENT
UID:7e45c1bc-31f2-4efb-b640-ffb21029c52e
CATEGORIES:Tempelarbeit
CREATED:20241019T104158
SUMMARY:St. John's
DESCRIPTION:text/html,Brr.%3A%20all%20%2B%20sisters":Brr.: all + sisters
DTSTAMP:20260422T073143
DTSTART:20250628T103000
DTEND:20250628T133000
SEQUENCE:0
TRANSP:OPAQUE
END:VEVENT
END:VCALENDAR